BEGIN:VCALENDAR
VERSION:2.0
PRODID:-//Oak Learners - ECPv6.15.20//NONSGML v1.0//EN
CALSCALE:GREGORIAN
METHOD:PUBLISH
X-ORIGINAL-URL:https://oaklearners.ca
X-WR-CALDESC:Events for Oak Learners
REFRESH-INTERVAL;VALUE=DURATION:PT1H
X-Robots-Tag:noindex
X-PUBLISHED-TTL:PT1H
BEGIN:VTIMEZONE
TZID:America/Toronto
BEGIN:DAYLIGHT
TZOFFSETFROM:-0500
TZOFFSETTO:-0400
TZNAME:EDT
DTSTART:20240310T070000
END:DAYLIGHT
BEGIN:STANDARD
TZOFFSETFROM:-0400
TZOFFSETTO:-0500
TZNAME:EST
DTSTART:20241103T060000
END:STANDARD
BEGIN:DAYLIGHT
TZOFFSETFROM:-0500
TZOFFSETTO:-0400
TZNAME:EDT
DTSTART:20250309T070000
END:DAYLIGHT
BEGIN:STANDARD
TZOFFSETFROM:-0400
TZOFFSETTO:-0500
TZNAME:EST
DTSTART:20251102T060000
END:STANDARD
BEGIN:DAYLIGHT
TZOFFSETFROM:-0500
TZOFFSETTO:-0400
TZNAME:EDT
DTSTART:20260308T070000
END:DAYLIGHT
BEGIN:STANDARD
TZOFFSETFROM:-0400
TZOFFSETTO:-0500
TZNAME:EST
DTSTART:20261101T060000
END:STANDARD
END:VTIMEZONE
BEGIN:VEVENT
DTSTART;VALUE=DATE:20250804
DTEND;VALUE=DATE:20250806
DTSTAMP:20260421T112139
CREATED:20240818T205451Z
LAST-MODIFIED:20240818T205451Z
UID:10000828-1754294400-1754380799@oaklearners.ca
SUMMARY:Civic Holiday
DESCRIPTION:
URL:https://oaklearners.ca/event/civic-holiday/
LOCATION:Oak Learners – Royal York Campus\, 394 Royal York Rd.\, Etobicoke\, Ontario\, M8Y 2R3\, Canada
CATEGORIES:Special Event
ORGANIZER;CN="Oak Learners":MAILTO:info@oaklearners.ca
END:VEVENT
BEGIN:VEVENT
DTSTART;TZID=America/Toronto:20250804T093000
DTEND;TZID=America/Toronto:20250808T120000
DTSTAMP:20260421T112139
CREATED:20250515T181904Z
LAST-MODIFIED:20250515T181904Z
UID:10002519-1754299800-1754654400@oaklearners.ca
SUMMARY:Kindergarten Readiness Summer Program Mini-Camp Week 6
DESCRIPTION:Give your child a head start for Kindergarten in September 2025! Our Kindergarten Readiness program is designed for 3-4-year-olds and focuses on setting them up for success in their educational journey. \nWhat to Expect:\nPositive Learning Environment: Our experienced educators create a nurturing and engaging atmosphere where children can explore and discover. \nEssential Skills Development: Through play-based activities\, we foster crucial classroom skills like following directions\, sharing\, and problem-solving\, as well as promoting independence. \nCurriculum Highlights: We introduce key concepts in literacy\, numeracy\, science\, and French language skills through a natural\, inquiry-based approach. \nWeek 6: Structures & Design
URL:https://oaklearners.ca/event/kindergarten-readiness-summer-program-mini-camp-week-6/
LOCATION:Oak Learners – Royal York Campus\, 394 Royal York Rd.\, Etobicoke\, Ontario\, M8Y 2R3\, Canada
CATEGORIES:Camp
ATTACH;FMTTYPE=image/png:https://oaklearners.ca/wp-content/uploads/2025/01/2025-5.png
ORGANIZER;CN="Oak Learners":MAILTO:info@oaklearners.ca
END:VEVENT
BEGIN:VEVENT
DTSTART;TZID=America/Toronto:20250805T090000
DTEND;TZID=America/Toronto:20250807T160000
DTSTAMP:20260421T112139
CREATED:20250511T142715Z
LAST-MODIFIED:20250516T235335Z
UID:10002510-1754384400-1754582400@oaklearners.ca
SUMMARY:Structures & Design
DESCRIPTION:This week\, campers will explore the secrets behind some of the world’s most famous and awe-inspiring structures. From ancient landmarks to modern marvels\, they’ll learn what makes these buildings timeless. Then\, campers will put their knowledge to the test by designing and creating their very own unique structures. It’s a week of creativity\, engineering\, and architectural adventure!
URL:https://oaklearners.ca/event/structures-design/
LOCATION:Ontario
CATEGORIES:Camp
ATTACH;FMTTYPE=image/jpeg:https://oaklearners.ca/wp-content/uploads/2024/12/week-6-2025.jpg
ORGANIZER;CN="Oak Learners":MAILTO:info@oaklearners.ca
END:VEVENT
BEGIN:VEVENT
DTSTART;TZID=America/Toronto:20250809T090000
DTEND;TZID=America/Toronto:20250809T170000
DTSTAMP:20260421T112139
CREATED:20250709T144704Z
LAST-MODIFIED:20250709T145527Z
UID:10002537-1754730000-1754758800@oaklearners.ca
SUMMARY:Red Cross Psychological First Aid
DESCRIPTION:Psychological First Aid\nAugust 9\,  9:00am – 5:00pm\, 3003B Lake Shore Blvd. W. Etobicoke\, ON\, M8V1K2 \nFirst aid for the mind is just as important as first aid for the body. Individuals suffering from high stress levels\, burnout and suicidal thoughts are at an all-time high in areas such as workplaces\, schools\, indigenous communities and among professional responders. \nPsychological First Aid is a resiliency-building wellness program that equips individuals in supporting themselves and others to cope with\nthe effects of stress\, loss\, trauma and grief. \n• Uses audience-specific case-based learning that focuses on self-care and personal protection\n• Incorporates the latest evidence-based research on emotional\, psychological\, and social well-being\n• Supports and complements workplace wellness education programs\n• Blended format: Online pre-course completion followed by in-person session. \nPresented by Mindful In Bloom
URL:https://oaklearners.ca/event/red-cross-psychological-first-aid-2/
LOCATION:Oak Learners – Lake Shore Campus\, 3003b Lake Shore Blvd West\, Etobicoke\, Ontario\, M8V 1K2\, Canada
CATEGORIES:Community Event
ORGANIZER;CN="Oak Learners":MAILTO:info@oaklearners.ca
END:VEVENT
END:VCALENDAR