BEGIN:VCALENDAR
VERSION:2.0
PRODID:-//Oak Learners - ECPv6.15.20//NONSGML v1.0//EN
CALSCALE:GREGORIAN
METHOD:PUBLISH
X-ORIGINAL-URL:https://oaklearners.ca
X-WR-CALDESC:Events for Oak Learners
REFRESH-INTERVAL;VALUE=DURATION:PT1H
X-Robots-Tag:noindex
X-PUBLISHED-TTL:PT1H
BEGIN:VTIMEZONE
TZID:America/Toronto
BEGIN:DAYLIGHT
TZOFFSETFROM:-0500
TZOFFSETTO:-0400
TZNAME:EDT
DTSTART:20240310T070000
END:DAYLIGHT
BEGIN:STANDARD
TZOFFSETFROM:-0400
TZOFFSETTO:-0500
TZNAME:EST
DTSTART:20241103T060000
END:STANDARD
BEGIN:DAYLIGHT
TZOFFSETFROM:-0500
TZOFFSETTO:-0400
TZNAME:EDT
DTSTART:20250309T070000
END:DAYLIGHT
BEGIN:STANDARD
TZOFFSETFROM:-0400
TZOFFSETTO:-0500
TZNAME:EST
DTSTART:20251102T060000
END:STANDARD
BEGIN:DAYLIGHT
TZOFFSETFROM:-0500
TZOFFSETTO:-0400
TZNAME:EDT
DTSTART:20260308T070000
END:DAYLIGHT
BEGIN:STANDARD
TZOFFSETFROM:-0400
TZOFFSETTO:-0500
TZNAME:EST
DTSTART:20261101T060000
END:STANDARD
END:VTIMEZONE
BEGIN:VEVENT
DTSTART;TZID=America/Toronto:20250630T090000
DTEND;TZID=America/Toronto:20250704T160000
DTSTAMP:20260421T083558
CREATED:20250511T142710Z
LAST-MODIFIED:20250524T000404Z
UID:10002505-1751274000-1751644800@oaklearners.ca
SUMMARY:Summer in the City
DESCRIPTION:This week\, campers will celebrate the vibrant city of Toronto while discovering ways to make it even better. They’ll get outside to explore the natural wonders right in our own backyard\, learning about local parks\, wildlife\, and more. Through hands-on activities\, campers will dive into sustainability\, creativity\, and innovation\, brainstorming ideas and inventions to improve the community. It’s a week of exploration\, inspiration\, and making a positive impact on the city we love!
URL:https://oaklearners.ca/event/summer-in-the-city/
LOCATION:Ontario
CATEGORIES:Camp
ATTACH;FMTTYPE=image/jpeg:https://oaklearners.ca/wp-content/uploads/2024/12/Summer-Camp-Product-Thumnails.jpg
ORGANIZER;CN="Oak Learners":MAILTO:info@oaklearners.ca
END:VEVENT
BEGIN:VEVENT
DTSTART;TZID=America/Toronto:20250630T093000
DTEND;TZID=America/Toronto:20250704T120000
DTSTAMP:20260421T083558
CREATED:20250514T224507Z
LAST-MODIFIED:20250515T180404Z
UID:10002513-1751275800-1751630400@oaklearners.ca
SUMMARY:Kindergarten Readiness Summer Program Mini-Camp Week 1
DESCRIPTION:Give your child a head start for Kindergarten in September 2025! Our Kindergarten Readiness program is designed for 3-4-year-olds and focuses on setting them up for success in their educational journey. \nWhat to Expect:\nPositive Learning Environment: Our experienced educators create a nurturing and engaging atmosphere where children can explore and discover. \nEssential Skills Development: Through play-based activities\, we foster crucial classroom skills like following directions\, sharing\, and problem-solving\, as well as promoting independence. \nCurriculum Highlights: We introduce key concepts in literacy\, numeracy\, science\, and French language skills through a natural\, inquiry-based approach. \nWeek 1: Summer in the City
URL:https://oaklearners.ca/event/kindergarten-readiness-summer-program-mini-camp-week-1/
LOCATION:Oak Learners – Royal York Campus\, 394 Royal York Rd.\, Etobicoke\, Ontario\, M8Y 2R3\, Canada
CATEGORIES:Camp
ATTACH;FMTTYPE=image/png:https://oaklearners.ca/wp-content/uploads/2025/01/2025-5.png
ORGANIZER;CN="Oak Learners":MAILTO:info@oaklearners.ca
END:VEVENT
BEGIN:VEVENT
DTSTART;VALUE=DATE:20250701
DTEND;VALUE=DATE:20250703
DTSTAMP:20260421T083558
CREATED:20240818T205349Z
LAST-MODIFIED:20240818T205349Z
UID:10000827-1751356800-1751443199@oaklearners.ca
SUMMARY:Canada Day
DESCRIPTION:
URL:https://oaklearners.ca/event/canada-day/
LOCATION:Oak Learners – Royal York Campus\, 394 Royal York Rd.\, Etobicoke\, Ontario\, M8Y 2R3\, Canada
CATEGORIES:Special Event
ORGANIZER;CN="Oak Learners":MAILTO:info@oaklearners.ca
END:VEVENT
END:VCALENDAR