BEGIN:VCALENDAR
VERSION:2.0
PRODID:-//Oak Learners - ECPv6.15.20//NONSGML v1.0//EN
CALSCALE:GREGORIAN
METHOD:PUBLISH
X-WR-CALNAME:Oak Learners
X-ORIGINAL-URL:https://oaklearners.ca
X-WR-CALDESC:Events for Oak Learners
REFRESH-INTERVAL;VALUE=DURATION:PT1H
X-Robots-Tag:noindex
X-PUBLISHED-TTL:PT1H
BEGIN:VTIMEZONE
TZID:America/Toronto
BEGIN:DAYLIGHT
TZOFFSETFROM:-0500
TZOFFSETTO:-0400
TZNAME:EDT
DTSTART:20240310T070000
END:DAYLIGHT
BEGIN:STANDARD
TZOFFSETFROM:-0400
TZOFFSETTO:-0500
TZNAME:EST
DTSTART:20241103T060000
END:STANDARD
BEGIN:DAYLIGHT
TZOFFSETFROM:-0500
TZOFFSETTO:-0400
TZNAME:EDT
DTSTART:20250309T070000
END:DAYLIGHT
BEGIN:STANDARD
TZOFFSETFROM:-0400
TZOFFSETTO:-0500
TZNAME:EST
DTSTART:20251102T060000
END:STANDARD
BEGIN:DAYLIGHT
TZOFFSETFROM:-0500
TZOFFSETTO:-0400
TZNAME:EDT
DTSTART:20260308T070000
END:DAYLIGHT
BEGIN:STANDARD
TZOFFSETFROM:-0400
TZOFFSETTO:-0500
TZNAME:EST
DTSTART:20261101T060000
END:STANDARD
END:VTIMEZONE
BEGIN:VEVENT
DTSTART;TZID=America/Toronto:20250617T173000
DTEND;TZID=America/Toronto:20250617T193000
DTSTAMP:20260421T141214
CREATED:20250516T181727Z
LAST-MODIFIED:20250610T175107Z
UID:10002523-1750181400-1750188600@oaklearners.ca
SUMMARY:End-of-Year Celebration and Graduation
DESCRIPTION:This special occasion marks a significant milestone for our campus as we proudly recognize and celebrate the accomplishments of our lovely graduating students from Oak Learners! \nWe cordially invite all members of the Oak Learners Lakeshore Campus Community to join us for this memorable event. It’s an opportunity for our school community to come together in support of our graduates and to celebrate their achievements. The evening promises to be filled with elegance and camaraderie\, as we share a formal dinner and commemorate the accomplishments of this year. We kindly ask that all attendees dress for the occasion\, in formal attire. \nTickets are complimentary for all Oak Learners Students as well as for the parents of the Graduating Students. Parents accompanying Grade 4-7 students and additional family members of Graduates may purchase tickets for $35 each. As space is limited\, we kindly request that additional family members wishing to attend RSVP by June 2\, 2025. \n\nPlease indicate meal choices\, guests attending and any other pertinent information and send e-transfers to : finance@oaklearners.ca for payment for tickets not covered by the school.
URL:https://oaklearners.ca/event/grade-8-graduation-dinner/
LOCATION:Cellar Door Restaurant\, 3003 Lake Shore Blvd W\, Etobicoke\, Ontario\, M8V 1K2\, Canada
CATEGORIES:Special Event
ATTACH;FMTTYPE=image/png:https://oaklearners.ca/wp-content/uploads/2025/05/Blue-and-Gold-Festive-New-Year-Dinner-Party-Flyer-1920-x-1080-px-4.png
ORGANIZER;CN="Oak Learners":MAILTO:info@oaklearners.ca
END:VEVENT
BEGIN:VEVENT
DTSTART;TZID=America/Toronto:20250618T111500
DTEND;TZID=America/Toronto:20250618T120000
DTSTAMP:20260421T141214
CREATED:20250206T193147Z
LAST-MODIFIED:20250624T193232Z
UID:10001204-1750245300-1750248000@oaklearners.ca
SUMMARY:Little Rebels Rebel Babies (7-14 Months)
DESCRIPTION:Babies will experience action songs to engage tummy\, neck\, and arm muscles while working towards solo sitting\, crawling\, walking\, and balancing activities to help with direction and following instructions and tactile object work using scarves\, balls\, and shakers to develop hand-eye coordination\, listening skills\, sharing\, and taking turns – with early exposure to the alphabet\, counting\, colours\, routines\, and more! \nTo join visit The Little Rebels website.
URL:https://oaklearners.ca/event/little-rebels-rebel-babies-7-14-months/2025-06-18/
LOCATION:Oak Learners – Royal York Campus\, 394 Royal York Rd.\, Etobicoke\, Ontario\, M8Y 2R3\, Canada
CATEGORIES:Class,Dance,Music Class
ATTACH;FMTTYPE=image/jpeg:https://oaklearners.ca/wp-content/uploads/2023/04/GABBYUPDATEDLR_PrimaryLogo_PMS_PNG.jpeg
END:VEVENT
BEGIN:VEVENT
DTSTART;TZID=America/Toronto:20250618T121500
DTEND;TZID=America/Toronto:20250618T130000
DTSTAMP:20260421T141214
CREATED:20250207T234209Z
LAST-MODIFIED:20250624T193020Z
UID:10001723-1750248900-1750251600@oaklearners.ca
SUMMARY:Little Rebels' Rebel Infants and Babies (2-14 Months)
DESCRIPTION:Infants will experience action songs to engage tummy\, neck\, and arm muscles (slowly working towards solo sitting)\, rolling and leg songs to work on hip flexors and spine mobility\, and tummy and mirror time to work on arm and neck strength and to develop a sense of self\, which helps with symptoms of separation anxiety. \nBabies will experience action songs to engage tummy\, neck\, and arm muscles while working towards solo sitting\, crawling\, walking\, and balancing activities to help with direction and following instructions. Tactile object work using scarves\, balls\, and shakers to develop hand-eye coordination\, listening skills\, sharing\, and taking turns – with early exposure to the alphabet\, counting\, colours\, routines\, and more! \nTo join visit The Little Rebels website.
URL:https://oaklearners.ca/event/little-rebels-rebel-infants-and-babies-2-14-months/2025-06-18/
LOCATION:Oak Learners – Royal York Campus\, 394 Royal York Rd.\, Etobicoke\, Ontario\, M8Y 2R3\, Canada
CATEGORIES:Class,Dance,Music Class
ATTACH;FMTTYPE=image/jpeg:https://oaklearners.ca/wp-content/uploads/2023/04/GABBYUPDATEDLR_PrimaryLogo_PMS_PNG.jpeg
END:VEVENT
BEGIN:VEVENT
DTSTART;TZID=America/Toronto:20250621T100000
DTEND;TZID=America/Toronto:20250621T124500
DTSTAMP:20260421T141214
CREATED:20250207T234944Z
LAST-MODIFIED:20250624T192620Z
UID:10002244-1750500000-1750509900@oaklearners.ca
SUMMARY:Little Rebels' Rebel Toddlers (15+ Months)
DESCRIPTION:Toddlers will experience action songs to work on walking and building balance and centre of gravity\, following rhythms and patterns to aid with speech development and language skills\nTactile object work to improve hand/foot-eye coordination and following instructions\, solving problems\, sharing\, and taking turns.\nStorytelling – working on turning pages\, reading books\, and more! \nTo join visit The Little Rebels website.
URL:https://oaklearners.ca/event/little-rebels-rebel-toddlers-2-14-months/2025-06-21/
LOCATION:Oak Learners – Royal York Campus\, 394 Royal York Rd.\, Etobicoke\, Ontario\, M8Y 2R3\, Canada
CATEGORIES:Class,Dance,Music Class
ATTACH;FMTTYPE=image/jpeg:https://oaklearners.ca/wp-content/uploads/2023/04/GABBYUPDATEDLR_PrimaryLogo_PMS_PNG.jpeg
END:VEVENT
END:VCALENDAR