BEGIN:VCALENDAR
VERSION:2.0
PRODID:-//Oak Learners - ECPv6.15.20//NONSGML v1.0//EN
CALSCALE:GREGORIAN
METHOD:PUBLISH
X-WR-CALNAME:Oak Learners
X-ORIGINAL-URL:https://oaklearners.ca
X-WR-CALDESC:Events for Oak Learners
REFRESH-INTERVAL;VALUE=DURATION:PT1H
X-Robots-Tag:noindex
X-PUBLISHED-TTL:PT1H
BEGIN:VTIMEZONE
TZID:America/Toronto
BEGIN:DAYLIGHT
TZOFFSETFROM:-0500
TZOFFSETTO:-0400
TZNAME:EDT
DTSTART:20230312T070000
END:DAYLIGHT
BEGIN:STANDARD
TZOFFSETFROM:-0400
TZOFFSETTO:-0500
TZNAME:EST
DTSTART:20231105T060000
END:STANDARD
BEGIN:DAYLIGHT
TZOFFSETFROM:-0500
TZOFFSETTO:-0400
TZNAME:EDT
DTSTART:20240310T070000
END:DAYLIGHT
BEGIN:STANDARD
TZOFFSETFROM:-0400
TZOFFSETTO:-0500
TZNAME:EST
DTSTART:20241103T060000
END:STANDARD
BEGIN:DAYLIGHT
TZOFFSETFROM:-0500
TZOFFSETTO:-0400
TZNAME:EDT
DTSTART:20250309T070000
END:DAYLIGHT
BEGIN:STANDARD
TZOFFSETFROM:-0400
TZOFFSETTO:-0500
TZNAME:EST
DTSTART:20251102T060000
END:STANDARD
BEGIN:DAYLIGHT
TZOFFSETFROM:-0500
TZOFFSETTO:-0400
TZNAME:EDT
DTSTART:20260308T070000
END:DAYLIGHT
BEGIN:STANDARD
TZOFFSETFROM:-0400
TZOFFSETTO:-0500
TZNAME:EST
DTSTART:20261101T060000
END:STANDARD
END:VTIMEZONE
BEGIN:VEVENT
DTSTART;VALUE=DATE:20241223
DTEND;VALUE=DATE:20250105
DTSTAMP:20260421T165447
CREATED:20240818T204232Z
LAST-MODIFIED:20240818T204232Z
UID:10000821-1734940800-1735977599@oaklearners.ca
SUMMARY:Winter Break
DESCRIPTION:
URL:https://oaklearners.ca/event/winter-break/
LOCATION:Oak Learners – Royal York Campus\, 394 Royal York Rd.\, Etobicoke\, Ontario\, M8Y 2R3\, Canada
CATEGORIES:Special Event
ORGANIZER;CN="Oak Learners":MAILTO:info@oaklearners.ca
END:VEVENT
BEGIN:VEVENT
DTSTART;TZID=America/Toronto:20241230T090000
DTEND;TZID=America/Toronto:20241230T160000
DTSTAMP:20260421T165447
CREATED:20241114T185321Z
LAST-MODIFIED:20241115T213425Z
UID:10000177-1735549200-1735574400@oaklearners.ca
SUMMARY:Winter Holiday Day Camp
DESCRIPTION:Date\n						\n							Choose an optionDecember 22December 23December 24December 29December 30December 31Clear						\n					\n							\n		\n		\n		\n		\n			\n	    \n\n    \n        🌿 Camper Information\n        📍 Location: Royal York Campus\n        \n        \n        \n             \n            Remember these campers for other weeks\n        \n    \n\n    \n    \n	\n		Winter Break Camps quantity\n	\n	\n\n	Add to cart
URL:https://oaklearners.ca/event/winter-holiday-day-camp-2/2024-12-30/
LOCATION:Oak Learners – Royal York Campus\, 394 Royal York Rd.\, Etobicoke\, Ontario\, M8Y 2R3\, Canada
CATEGORIES:Camp,Special Event
ATTACH;FMTTYPE=image/jpeg:https://oaklearners.ca/wp-content/uploads/2024/11/Holiday-Break-Camps.jpg
ORGANIZER;CN="Oak Learners":MAILTO:info@oaklearners.ca
END:VEVENT
BEGIN:VEVENT
DTSTART;TZID=America/Toronto:20241231T090000
DTEND;TZID=America/Toronto:20241231T160000
DTSTAMP:20260421T165447
CREATED:20241114T185321Z
LAST-MODIFIED:20241115T213425Z
UID:10000894-1735635600-1735660800@oaklearners.ca
SUMMARY:Winter Holiday Day Camp
DESCRIPTION:Date\n						\n							Choose an optionDecember 22December 23December 24December 29December 30December 31Clear						\n					\n							\n		\n		\n		\n		\n			\n	    \n\n    \n        🌿 Camper Information\n        📍 Location: Royal York Campus\n        \n        \n        \n             \n            Remember these campers for other weeks\n        \n    \n\n    \n    \n	\n		Winter Break Camps quantity\n	\n	\n\n	Add to cart
URL:https://oaklearners.ca/event/winter-holiday-day-camp-2/2024-12-31/
LOCATION:Oak Learners – Royal York Campus\, 394 Royal York Rd.\, Etobicoke\, Ontario\, M8Y 2R3\, Canada
CATEGORIES:Camp,Special Event
ATTACH;FMTTYPE=image/jpeg:https://oaklearners.ca/wp-content/uploads/2024/11/Holiday-Break-Camps.jpg
ORGANIZER;CN="Oak Learners":MAILTO:info@oaklearners.ca
END:VEVENT
BEGIN:VEVENT
DTSTART;TZID=America/Toronto:20250102T090000
DTEND;TZID=America/Toronto:20250102T160000
DTSTAMP:20260421T165447
CREATED:20241114T185321Z
LAST-MODIFIED:20241115T213425Z
UID:10000895-1735808400-1735833600@oaklearners.ca
SUMMARY:Winter Holiday Day Camp
DESCRIPTION:Date\n						\n							Choose an optionDecember 22December 23December 24December 29December 30December 31Clear						\n					\n							\n		\n		\n		\n		\n			\n	    \n\n    \n        🌿 Camper Information\n        📍 Location: Royal York Campus\n        \n        \n        \n             \n            Remember these campers for other weeks\n        \n    \n\n    \n    \n	\n		Winter Break Camps quantity\n	\n	\n\n	Add to cart
URL:https://oaklearners.ca/event/winter-holiday-day-camp-2/2025-01-02/
LOCATION:Oak Learners – Royal York Campus\, 394 Royal York Rd.\, Etobicoke\, Ontario\, M8Y 2R3\, Canada
CATEGORIES:Camp,Special Event
ATTACH;FMTTYPE=image/jpeg:https://oaklearners.ca/wp-content/uploads/2024/11/Holiday-Break-Camps.jpg
ORGANIZER;CN="Oak Learners":MAILTO:info@oaklearners.ca
END:VEVENT
BEGIN:VEVENT
DTSTART;TZID=America/Toronto:20250103T090000
DTEND;TZID=America/Toronto:20250103T160000
DTSTAMP:20260421T165447
CREATED:20241114T185321Z
LAST-MODIFIED:20241115T213425Z
UID:10000896-1735894800-1735920000@oaklearners.ca
SUMMARY:Winter Holiday Day Camp
DESCRIPTION:Date\n						\n							Choose an optionDecember 22December 23December 24December 29December 30December 31Clear						\n					\n							\n		\n		\n		\n		\n			\n	    \n\n    \n        🌿 Camper Information\n        📍 Location: Royal York Campus\n        \n        \n        \n             \n            Remember these campers for other weeks\n        \n    \n\n    \n    \n	\n		Winter Break Camps quantity\n	\n	\n\n	Add to cart
URL:https://oaklearners.ca/event/winter-holiday-day-camp-2/2025-01-03/
LOCATION:Oak Learners – Royal York Campus\, 394 Royal York Rd.\, Etobicoke\, Ontario\, M8Y 2R3\, Canada
CATEGORIES:Camp,Special Event
ATTACH;FMTTYPE=image/jpeg:https://oaklearners.ca/wp-content/uploads/2024/11/Holiday-Break-Camps.jpg
ORGANIZER;CN="Oak Learners":MAILTO:info@oaklearners.ca
END:VEVENT
END:VCALENDAR