BEGIN:VCALENDAR
VERSION:2.0
PRODID:-//Oak Learners - ECPv6.15.20//NONSGML v1.0//EN
CALSCALE:GREGORIAN
METHOD:PUBLISH
X-WR-CALNAME:Oak Learners
X-ORIGINAL-URL:https://oaklearners.ca
X-WR-CALDESC:Events for Oak Learners
REFRESH-INTERVAL;VALUE=DURATION:PT1H
X-Robots-Tag:noindex
X-PUBLISHED-TTL:PT1H
BEGIN:VTIMEZONE
TZID:America/Toronto
BEGIN:DAYLIGHT
TZOFFSETFROM:-0500
TZOFFSETTO:-0400
TZNAME:EDT
DTSTART:20230312T070000
END:DAYLIGHT
BEGIN:STANDARD
TZOFFSETFROM:-0400
TZOFFSETTO:-0500
TZNAME:EST
DTSTART:20231105T060000
END:STANDARD
BEGIN:DAYLIGHT
TZOFFSETFROM:-0500
TZOFFSETTO:-0400
TZNAME:EDT
DTSTART:20240310T070000
END:DAYLIGHT
BEGIN:STANDARD
TZOFFSETFROM:-0400
TZOFFSETTO:-0500
TZNAME:EST
DTSTART:20241103T060000
END:STANDARD
BEGIN:DAYLIGHT
TZOFFSETFROM:-0500
TZOFFSETTO:-0400
TZNAME:EDT
DTSTART:20250309T070000
END:DAYLIGHT
BEGIN:STANDARD
TZOFFSETFROM:-0400
TZOFFSETTO:-0500
TZNAME:EST
DTSTART:20251102T060000
END:STANDARD
BEGIN:DAYLIGHT
TZOFFSETFROM:-0500
TZOFFSETTO:-0400
TZNAME:EDT
DTSTART:20260308T070000
END:DAYLIGHT
BEGIN:STANDARD
TZOFFSETFROM:-0400
TZOFFSETTO:-0500
TZNAME:EST
DTSTART:20261101T060000
END:STANDARD
END:VTIMEZONE
BEGIN:VEVENT
DTSTART;VALUE=DATE:20241223
DTEND;VALUE=DATE:20250105
DTSTAMP:20260421T211442
CREATED:20240818T204232Z
LAST-MODIFIED:20240818T204232Z
UID:10000821-1734940800-1735977599@oaklearners.ca
SUMMARY:Winter Break
DESCRIPTION:
URL:https://oaklearners.ca/event/winter-break/
LOCATION:Oak Learners – Royal York Campus\, 394 Royal York Rd.\, Etobicoke\, Ontario\, M8Y 2R3\, Canada
CATEGORIES:Special Event
ORGANIZER;CN="Oak Learners":MAILTO:info@oaklearners.ca
END:VEVENT
BEGIN:VEVENT
DTSTART;TZID=America/Toronto:20241227T100000
DTEND;TZID=America/Toronto:20241227T120000
DTSTAMP:20260421T211442
CREATED:20241212T182828Z
LAST-MODIFIED:20241212T183320Z
UID:10000905-1735293600-1735300800@oaklearners.ca
SUMMARY:Holiday Workshop - Emotions
DESCRIPTION:Our annual holiday workshops! OT led\, neurodiversity affirming and fun filled. Minimum of 4 children needed. Warm indoor space. Respite for parents after santa has come and gone!  \n2 hour workshop featuring Emotional Regulation games\, activities and a special winter craft. \nRegister here: https://angelic-cell-33140.myflodesk.com/yoym8dilxv
URL:https://oaklearners.ca/event/holiday-workshop-emotions/
LOCATION:Oak Learners – Royal York Campus\, 394 Royal York Rd.\, Etobicoke\, Ontario\, M8Y 2R3\, Canada
CATEGORIES:Workshop
ATTACH;FMTTYPE=image/jpeg:https://oaklearners.ca/wp-content/uploads/2021/12/Oak-Learners-Holiday-Workshops-2021.jpg
END:VEVENT
END:VCALENDAR