BEGIN:VCALENDAR
VERSION:2.0
PRODID:-//Oak Learners - ECPv6.15.20//NONSGML v1.0//EN
CALSCALE:GREGORIAN
METHOD:PUBLISH
X-WR-CALNAME:Oak Learners
X-ORIGINAL-URL:https://oaklearners.ca
X-WR-CALDESC:Events for Oak Learners
REFRESH-INTERVAL;VALUE=DURATION:PT1H
X-Robots-Tag:noindex
X-PUBLISHED-TTL:PT1H
BEGIN:VTIMEZONE
TZID:America/Toronto
BEGIN:DAYLIGHT
TZOFFSETFROM:-0500
TZOFFSETTO:-0400
TZNAME:EDT
DTSTART:20240310T070000
END:DAYLIGHT
BEGIN:STANDARD
TZOFFSETFROM:-0400
TZOFFSETTO:-0500
TZNAME:EST
DTSTART:20241103T060000
END:STANDARD
BEGIN:DAYLIGHT
TZOFFSETFROM:-0500
TZOFFSETTO:-0400
TZNAME:EDT
DTSTART:20250309T070000
END:DAYLIGHT
BEGIN:STANDARD
TZOFFSETFROM:-0400
TZOFFSETTO:-0500
TZNAME:EST
DTSTART:20251102T060000
END:STANDARD
BEGIN:DAYLIGHT
TZOFFSETFROM:-0500
TZOFFSETTO:-0400
TZNAME:EDT
DTSTART:20260308T070000
END:DAYLIGHT
BEGIN:STANDARD
TZOFFSETFROM:-0400
TZOFFSETTO:-0500
TZNAME:EST
DTSTART:20261101T060000
END:STANDARD
END:VTIMEZONE
BEGIN:VEVENT
DTSTART;TZID=America/Toronto:20250811T090000
DTEND;TZID=America/Toronto:20250814T160000
DTSTAMP:20260425T223419
CREATED:20250511T142715Z
LAST-MODIFIED:20250516T235830Z
UID:10002511-1754902800-1755187200@oaklearners.ca
SUMMARY:Bugs & Butterflies
DESCRIPTION:Get ready to dive into the fascinating world of insects and creepy-crawlies! This week\, campers will explore the tiny creatures that inhabit the parks around us\, learning about their life cycles\, habitats\, and where to find them. A special highlight will be the return of the Monarch butterflies and caterpillars\, as they feast on milkweed and undergo their amazing transformation right before our eyes. It’s a week filled with discovery\, adventure\, and plenty of bug-tastic fun!
URL:https://oaklearners.ca/event/bugs-butterflies/
CATEGORIES:Camp
ATTACH;FMTTYPE=image/jpeg:https://oaklearners.ca/wp-content/uploads/2024/12/week-7-2025.jpg
ORGANIZER;CN="Oak Learners":MAILTO:info@oaklearners.ca
END:VEVENT
END:VCALENDAR