BEGIN:VCALENDAR
VERSION:2.0
PRODID:-//Oak Learners - ECPv6.15.20//NONSGML v1.0//EN
CALSCALE:GREGORIAN
METHOD:PUBLISH
X-ORIGINAL-URL:https://oaklearners.ca
X-WR-CALDESC:Events for Oak Learners
REFRESH-INTERVAL;VALUE=DURATION:PT1H
X-Robots-Tag:noindex
X-PUBLISHED-TTL:PT1H
BEGIN:VTIMEZONE
TZID:America/Toronto
BEGIN:DAYLIGHT
TZOFFSETFROM:-0500
TZOFFSETTO:-0400
TZNAME:EDT
DTSTART:20240310T070000
END:DAYLIGHT
BEGIN:STANDARD
TZOFFSETFROM:-0400
TZOFFSETTO:-0500
TZNAME:EST
DTSTART:20241103T060000
END:STANDARD
BEGIN:DAYLIGHT
TZOFFSETFROM:-0500
TZOFFSETTO:-0400
TZNAME:EDT
DTSTART:20250309T070000
END:DAYLIGHT
BEGIN:STANDARD
TZOFFSETFROM:-0400
TZOFFSETTO:-0500
TZNAME:EST
DTSTART:20251102T060000
END:STANDARD
BEGIN:DAYLIGHT
TZOFFSETFROM:-0500
TZOFFSETTO:-0400
TZNAME:EDT
DTSTART:20260308T070000
END:DAYLIGHT
BEGIN:STANDARD
TZOFFSETFROM:-0400
TZOFFSETTO:-0500
TZNAME:EST
DTSTART:20261101T060000
END:STANDARD
END:VTIMEZONE
BEGIN:VEVENT
DTSTART;TZID=America/Toronto:20250707T090000
DTEND;TZID=America/Toronto:20250710T160000
DTSTAMP:20260424T133106
CREATED:20250511T142710Z
LAST-MODIFIED:20250516T233617Z
UID:10002506-1751878800-1752163200@oaklearners.ca
SUMMARY:Blast Off Into Summer
DESCRIPTION:Blast off into an exciting week of space exploration! Campers will journey through the solar system\, discovering the wonders of space science and stargazing. They’ll learn about the stars that light up the summer night sky and dive into hands-on activities like rocket launching and building their own model of the Solar System. It’s a week filled with fun\, learning\, and endless curiosity about the universe—get ready for an out-of-this-world adventure!
URL:https://oaklearners.ca/event/blast-off-into-summer/
CATEGORIES:Camp
ATTACH;FMTTYPE=image/jpeg:https://oaklearners.ca/wp-content/uploads/2024/12/week-2-2025.jpg
ORGANIZER;CN="Oak Learners":MAILTO:info@oaklearners.ca
END:VEVENT
END:VCALENDAR