BEGIN:VCALENDAR
VERSION:2.0
PRODID:-//Oak Learners - ECPv6.15.20//NONSGML v1.0//EN
CALSCALE:GREGORIAN
METHOD:PUBLISH
X-ORIGINAL-URL:https://oaklearners.ca
X-WR-CALDESC:Events for Oak Learners
REFRESH-INTERVAL;VALUE=DURATION:PT1H
X-Robots-Tag:noindex
X-PUBLISHED-TTL:PT1H
BEGIN:VTIMEZONE
TZID:America/Toronto
BEGIN:DAYLIGHT
TZOFFSETFROM:-0500
TZOFFSETTO:-0400
TZNAME:EDT
DTSTART:20240310T070000
END:DAYLIGHT
BEGIN:STANDARD
TZOFFSETFROM:-0400
TZOFFSETTO:-0500
TZNAME:EST
DTSTART:20241103T060000
END:STANDARD
BEGIN:DAYLIGHT
TZOFFSETFROM:-0500
TZOFFSETTO:-0400
TZNAME:EDT
DTSTART:20250309T070000
END:DAYLIGHT
BEGIN:STANDARD
TZOFFSETFROM:-0400
TZOFFSETTO:-0500
TZNAME:EST
DTSTART:20251102T060000
END:STANDARD
BEGIN:DAYLIGHT
TZOFFSETFROM:-0500
TZOFFSETTO:-0400
TZNAME:EDT
DTSTART:20260308T070000
END:DAYLIGHT
BEGIN:STANDARD
TZOFFSETFROM:-0400
TZOFFSETTO:-0500
TZNAME:EST
DTSTART:20261101T060000
END:STANDARD
END:VTIMEZONE
BEGIN:VEVENT
DTSTART;TZID=America/Toronto:20251210T183000
DTEND;TZID=America/Toronto:20251210T193000
DTSTAMP:20260425T153023
CREATED:20251104T160229Z
LAST-MODIFIED:20251209T113902Z
UID:10002554-1765391400-1765395000@oaklearners.ca
SUMMARY:Holiday Concert
DESCRIPTION:🎶 The Sound of Music – 2025 Holiday Concert 🎄\nThis December\, the hills are alive with the voices of our young performers! Join us for a heartwarming Holiday Concert and evening that brings The Sound of Music to life on stage\, sharing a few of their favorite songs. \n📅 Date: Wednesday\, December 10🕕 Doors Open: 6:10 PM🎤 Concert: 6:30 PM – 7:30 PM📍 Location: 145 Evans Ave. #200\, Etobicoke\, ON M8Z 5X8 \n✨ Tickets are limited! To ensure every family has a chance to attend\, we kindly ask that you reserve only what you need. \nLet the music lift your spirits and kick off the holiday season with joy
URL:https://oaklearners.ca/event/holiday-concert/
LOCATION:Trident Banquet Hall\, 145 Evans Ave\, Etobicoke\, ON\, Canada
CATEGORIES:Special Event
ATTACH;FMTTYPE=image/png:https://oaklearners.ca/wp-content/uploads/2025/11/Copy-of-Holiday-Concert.png
ORGANIZER;CN="Oak Learners":MAILTO:info@oaklearners.ca
END:VEVENT
END:VCALENDAR