BEGIN:VCALENDAR
VERSION:2.0
PRODID:-//Oak Learners - ECPv6.15.20//NONSGML v1.0//EN
CALSCALE:GREGORIAN
METHOD:PUBLISH
X-WR-CALNAME:Oak Learners
X-ORIGINAL-URL:https://oaklearners.ca
X-WR-CALDESC:Events for Oak Learners
REFRESH-INTERVAL;VALUE=DURATION:PT1H
X-Robots-Tag:noindex
X-PUBLISHED-TTL:PT1H
BEGIN:VTIMEZONE
TZID:America/Toronto
BEGIN:DAYLIGHT
TZOFFSETFROM:-0500
TZOFFSETTO:-0400
TZNAME:EDT
DTSTART:20230312T070000
END:DAYLIGHT
BEGIN:STANDARD
TZOFFSETFROM:-0400
TZOFFSETTO:-0500
TZNAME:EST
DTSTART:20231105T060000
END:STANDARD
BEGIN:DAYLIGHT
TZOFFSETFROM:-0500
TZOFFSETTO:-0400
TZNAME:EDT
DTSTART:20240310T070000
END:DAYLIGHT
BEGIN:STANDARD
TZOFFSETFROM:-0400
TZOFFSETTO:-0500
TZNAME:EST
DTSTART:20241103T060000
END:STANDARD
BEGIN:DAYLIGHT
TZOFFSETFROM:-0500
TZOFFSETTO:-0400
TZNAME:EDT
DTSTART:20250309T070000
END:DAYLIGHT
BEGIN:STANDARD
TZOFFSETFROM:-0400
TZOFFSETTO:-0500
TZNAME:EST
DTSTART:20251102T060000
END:STANDARD
BEGIN:DAYLIGHT
TZOFFSETFROM:-0500
TZOFFSETTO:-0400
TZNAME:EDT
DTSTART:20260308T070000
END:DAYLIGHT
BEGIN:STANDARD
TZOFFSETFROM:-0400
TZOFFSETTO:-0500
TZNAME:EST
DTSTART:20261101T060000
END:STANDARD
END:VTIMEZONE
BEGIN:VEVENT
DTSTART;VALUE=DATE:20250329
DTEND;VALUE=DATE:20250416
DTSTAMP:20260421T162003
CREATED:20250324T020610Z
LAST-MODIFIED:20250324T020617Z
UID:10002486-1743235200-1744703999@oaklearners.ca
SUMMARY:Silent Auction - Fundraiser for Senior Students Grad Trip and Graduation Dinner
DESCRIPTION:Help Us Make Our Senior Grad Trip and Graduation Dinner a Reality! \nOur Online Silent Auction Begins March 29!\nDear Parents\, Alumni\, and Friends of Oak Learners\, \nI hope this message finds you well. We are excited to announce our upcoming Silent Auction to raise funds for the much-anticipated Senior Grad Trip to Blue Mountain\, and the Graduation Ceremony and Dinner. This online auction will be launching on March 29\, 2025\, and will run until April 14\, 2025. The funds raised will help ensure that all of our graduating students can participate in this special milestone experience and contribute to the ongoing growth of our school community. \nWe are aiming to raise $2\,500.00  through this auction\, which will go directly toward covering trip expenses and making the senior students’ graduation celebrations memorable. The trip and dinner are vital components of their final year\, and we want to ensure every student has the opportunity to participate. Any additional funds raised will be put towards facility and programming upgrades for the Senior Students at Oak Learners Lakeshore Campus.  \nWe ask for your support in two ways: \n\nShare the Auction: We kindly ask that you share the auction details with friends\, family\, and colleagues so we can reach as many people as possible. The more people who participate\, the more successful the event will be for our students.\nAttend the Auction: We need your support! Visit the site and bid on some items to help generate these much-needed funds!\n\nEvery donation\, no matter the size\, will make a significant difference in the lives of our graduating seniors and help us continue to offer a rich educational experience to all our students. \nThank you for being part of the Oak Learners community and for helping make this a truly special time for our students.
URL:https://oaklearners.ca/event/silent-auction-fundraiser-for-senior-students-grad-trip-and-graduation-dinner/
CATEGORIES:Community Event,Special Event
ATTACH;FMTTYPE=image/png:https://oaklearners.ca/wp-content/uploads/2025/03/Silent-Auction-.png
ORGANIZER;CN="Oak Learners":MAILTO:info@oaklearners.ca
END:VEVENT
BEGIN:VEVENT
DTSTART;TZID=America/Toronto:20240504T100000
DTEND;TZID=America/Toronto:20240504T130000
DTSTAMP:20260421T162003
CREATED:20240420T235110Z
LAST-MODIFIED:20240428T142916Z
UID:10000805-1714816800-1714827600@oaklearners.ca
SUMMARY:Bake Sale: Senior Class Trip Fundraiser
DESCRIPTION:
URL:https://oaklearners.ca/event/bake-sale-senior-class-trip-fundraiser/
LOCATION:Oak Learners – Royal York Campus\, 394 Royal York Rd.\, Etobicoke\, Ontario\, M8Y 2R3\, Canada
CATEGORIES:Special Event
ATTACH;FMTTYPE=image/png:https://oaklearners.ca/wp-content/uploads/2024/04/school_d02790b3-7c25-4dc0-86de-d6de679ee9d0_84b96a3a-77ea-47dc-a3f7-dcec6bdb7075_BottleDriveFlyer.png
ORGANIZER;CN="Oak Learners":MAILTO:info@oaklearners.ca
END:VEVENT
BEGIN:VEVENT
DTSTART;VALUE=DATE:20240415
DTEND;VALUE=DATE:20240517
DTSTAMP:20260421T162003
CREATED:20240420T234642Z
LAST-MODIFIED:20240421T000424Z
UID:10000804-1713168000-1715846399@oaklearners.ca
SUMMARY:Bottle Drive: Senior Class Trip Fundraiser
DESCRIPTION:
URL:https://oaklearners.ca/event/bottle-drive-senior-class-trip-fundraiser/
LOCATION:Oak Learners – Lake Shore Campus\, 3003b Lake Shore Blvd West\, Etobicoke\, Ontario\, M8V 1K2\, Canada
CATEGORIES:Special Event
ATTACH;FMTTYPE=image/png:https://oaklearners.ca/wp-content/uploads/2024/04/school_d02790b3-7c25-4dc0-86de-d6de679ee9d0_84b96a3a-77ea-47dc-a3f7-dcec6bdb7075_BottleDriveFlyer.png
ORGANIZER;CN="Oak Learners":MAILTO:info@oaklearners.ca
END:VEVENT
END:VCALENDAR