BEGIN:VCALENDAR
VERSION:2.0
PRODID:-//Oak Learners - ECPv6.15.20//NONSGML v1.0//EN
CALSCALE:GREGORIAN
METHOD:PUBLISH
X-WR-CALNAME:Oak Learners
X-ORIGINAL-URL:https://oaklearners.ca
X-WR-CALDESC:Events for Oak Learners
REFRESH-INTERVAL;VALUE=DURATION:PT1H
X-Robots-Tag:noindex
X-PUBLISHED-TTL:PT1H
BEGIN:VTIMEZONE
TZID:America/Toronto
BEGIN:DAYLIGHT
TZOFFSETFROM:-0500
TZOFFSETTO:-0400
TZNAME:EDT
DTSTART:20230312T070000
END:DAYLIGHT
BEGIN:STANDARD
TZOFFSETFROM:-0400
TZOFFSETTO:-0500
TZNAME:EST
DTSTART:20231105T060000
END:STANDARD
BEGIN:DAYLIGHT
TZOFFSETFROM:-0500
TZOFFSETTO:-0400
TZNAME:EDT
DTSTART:20240310T070000
END:DAYLIGHT
BEGIN:STANDARD
TZOFFSETFROM:-0400
TZOFFSETTO:-0500
TZNAME:EST
DTSTART:20241103T060000
END:STANDARD
BEGIN:DAYLIGHT
TZOFFSETFROM:-0500
TZOFFSETTO:-0400
TZNAME:EDT
DTSTART:20250309T070000
END:DAYLIGHT
BEGIN:STANDARD
TZOFFSETFROM:-0400
TZOFFSETTO:-0500
TZNAME:EST
DTSTART:20251102T060000
END:STANDARD
END:VTIMEZONE
BEGIN:VEVENT
DTSTART;TZID=America/Toronto:20240423T193000
DTEND;TZID=America/Toronto:20240423T203000
DTSTAMP:20260423T171902
CREATED:20240307T000936Z
LAST-MODIFIED:20240307T001220Z
UID:10000741-1713900600-1713904200@oaklearners.ca
SUMMARY:Adult Beginner Jazz Drop-in Classes
DESCRIPTION:Join Maggie for this drop-in class on Tuesday evenings at our Lake Shore Campus!\nThe class is open to all levels of dance\, but tailored to those with zero-little dance experience. Exercise while learning new dance combinations every week! \nSchedule: Classes will run on Tuesday evenings from 7:30-8:30pm\, beginning on Tuesday\, March 19\, 2024. \n* There will be no class on Tuesday\, April 9\, 2024** This is subject to the # of registrations as well as other scheduling conflicts. \nPrice: $5-$20 per class – you decide! \nRegistration inquiries and e-transfers can be sent to Maggie directly at maggie.robertson95@gmail.com
URL:https://oaklearners.ca/event/adult-beginner-jazz-drop-in-classes/2024-04-23/
LOCATION:Oak Learners – Lake Shore Campus\, 3003b Lake Shore Blvd West\, Etobicoke\, Ontario\, M8V 1K2\, Canada
ORGANIZER;CN="Moves with Maggie":MAILTO:maggie.robertson95@gmail.com
END:VEVENT
BEGIN:VEVENT
DTSTART;VALUE=DATE:20240415
DTEND;VALUE=DATE:20240517
DTSTAMP:20260423T171902
CREATED:20240420T234642Z
LAST-MODIFIED:20240421T000424Z
UID:10000804-1713168000-1715846399@oaklearners.ca
SUMMARY:Bottle Drive: Senior Class Trip Fundraiser
DESCRIPTION:
URL:https://oaklearners.ca/event/bottle-drive-senior-class-trip-fundraiser/
LOCATION:Oak Learners – Lake Shore Campus\, 3003b Lake Shore Blvd West\, Etobicoke\, Ontario\, M8V 1K2\, Canada
CATEGORIES:Special Event
ATTACH;FMTTYPE=image/png:https://oaklearners.ca/wp-content/uploads/2024/04/school_d02790b3-7c25-4dc0-86de-d6de679ee9d0_84b96a3a-77ea-47dc-a3f7-dcec6bdb7075_BottleDriveFlyer.png
ORGANIZER;CN="Oak Learners":MAILTO:info@oaklearners.ca
END:VEVENT
END:VCALENDAR