BEGIN:VCALENDAR
VERSION:2.0
PRODID:-//Oak Learners - ECPv6.15.20//NONSGML v1.0//EN
CALSCALE:GREGORIAN
METHOD:PUBLISH
X-ORIGINAL-URL:https://oaklearners.ca
X-WR-CALDESC:Events for Oak Learners
REFRESH-INTERVAL;VALUE=DURATION:PT1H
X-Robots-Tag:noindex
X-PUBLISHED-TTL:PT1H
BEGIN:VTIMEZONE
TZID:America/Toronto
BEGIN:DAYLIGHT
TZOFFSETFROM:-0500
TZOFFSETTO:-0400
TZNAME:EDT
DTSTART:20230312T070000
END:DAYLIGHT
BEGIN:STANDARD
TZOFFSETFROM:-0400
TZOFFSETTO:-0500
TZNAME:EST
DTSTART:20231105T060000
END:STANDARD
BEGIN:DAYLIGHT
TZOFFSETFROM:-0500
TZOFFSETTO:-0400
TZNAME:EDT
DTSTART:20240310T070000
END:DAYLIGHT
BEGIN:STANDARD
TZOFFSETFROM:-0400
TZOFFSETTO:-0500
TZNAME:EST
DTSTART:20241103T060000
END:STANDARD
BEGIN:DAYLIGHT
TZOFFSETFROM:-0500
TZOFFSETTO:-0400
TZNAME:EDT
DTSTART:20250309T070000
END:DAYLIGHT
BEGIN:STANDARD
TZOFFSETFROM:-0400
TZOFFSETTO:-0500
TZNAME:EST
DTSTART:20251102T060000
END:STANDARD
END:VTIMEZONE
BEGIN:VEVENT
DTSTART;VALUE=DATE:20240902
DTEND;VALUE=DATE:20240904
DTSTAMP:20260423T011437
CREATED:20240818T190057Z
LAST-MODIFIED:20240818T190057Z
UID:10000819-1725264000-1725350399@oaklearners.ca
SUMMARY:Labour Day
DESCRIPTION:
URL:https://oaklearners.ca/event/labour-day/
LOCATION:Oak Learners – Royal York Campus\, 394 Royal York Rd.\, Etobicoke\, Ontario\, M8Y 2R3\, Canada
CATEGORIES:Special Event
ORGANIZER;CN="Oak Learners":MAILTO:info@oaklearners.ca
END:VEVENT
BEGIN:VEVENT
DTSTART;TZID=America/Toronto:20240907T120000
DTEND;TZID=America/Toronto:20240907T140000
DTSTAMP:20260423T011437
CREATED:20240818T214419Z
LAST-MODIFIED:20240818T214419Z
UID:10000836-1725710400-1725717600@oaklearners.ca
SUMMARY:Mimico Village Music Series
DESCRIPTION:Mimico Village BIA presents a weekly music series starting Saturday August 10th and running through to Saturday September 28th.\nLive musical performances by local musicians at the corner of Royal York and Melrose\, Royal York and Hay & Royal York and Simpson from Noon till 2 pm.\nEvery weekend our musicians will be at a different corner.\nFollow us on Facebook for updates on weekend performers.
URL:https://oaklearners.ca/event/mimico-village-music-series-3/
LOCATION:Mimico Village\, Royal York / Hay Ave\, Etobicoke\, Canada
CATEGORIES:Community Event
ATTACH;FMTTYPE=image/jpeg:https://oaklearners.ca/wp-content/uploads/2024/08/SummerMusicSeries.jpg
END:VEVENT
BEGIN:VEVENT
DTSTART;TZID=America/Toronto:20240914T120000
DTEND;TZID=America/Toronto:20240914T140000
DTSTAMP:20260423T011437
CREATED:20240818T214516Z
LAST-MODIFIED:20240818T214516Z
UID:10000837-1726315200-1726322400@oaklearners.ca
SUMMARY:Mimico Village Music Series
DESCRIPTION:Mimico Village BIA presents a weekly music series starting Saturday August 10th and running through to Saturday September 28th.\nLive musical performances by local musicians at the corner of Royal York and Melrose\, Royal York and Hay & Royal York and Simpson from Noon till 2 pm.\nEvery weekend our musicians will be at a different corner.\nFollow us on Facebook for updates on weekend performers.
URL:https://oaklearners.ca/event/mimico-village-music-series-4/
LOCATION:Mimico Village\, Royal York / Hay Ave\, Etobicoke\, Canada
CATEGORIES:Community Event
ATTACH;FMTTYPE=image/jpeg:https://oaklearners.ca/wp-content/uploads/2024/08/SummerMusicSeries.jpg
END:VEVENT
BEGIN:VEVENT
DTSTART;TZID=America/Toronto:20240921T120000
DTEND;TZID=America/Toronto:20240921T140000
DTSTAMP:20260423T011437
CREATED:20240818T214721Z
LAST-MODIFIED:20240818T214721Z
UID:10000838-1726920000-1726927200@oaklearners.ca
SUMMARY:Mimico Village Music Series
DESCRIPTION:Mimico Village BIA presents a weekly music series starting Saturday August 10th and running through to Saturday September 28th.\nLive musical performances by local musicians at the corner of Royal York and Melrose\, Royal York and Hay & Royal York and Simpson from Noon till 2 pm.\nEvery weekend our musicians will be at a different corner.\nFollow us on Facebook for updates on weekend performers.
URL:https://oaklearners.ca/event/mimico-village-music-series-5/
LOCATION:Mimico Village\, Royal York / Hay Ave\, Etobicoke\, Canada
CATEGORIES:Community Event
ATTACH;FMTTYPE=image/jpeg:https://oaklearners.ca/wp-content/uploads/2024/08/SummerMusicSeries.jpg
END:VEVENT
BEGIN:VEVENT
DTSTART;TZID=America/Toronto:20240928T120000
DTEND;TZID=America/Toronto:20240928T140000
DTSTAMP:20260423T011437
CREATED:20240818T214825Z
LAST-MODIFIED:20240818T214825Z
UID:10000839-1727524800-1727532000@oaklearners.ca
SUMMARY:Mimico Village Music Series
DESCRIPTION:Mimico Village BIA presents a weekly music series starting Saturday August 10th and running through to Saturday September 28th.\nLive musical performances by local musicians at the corner of Royal York and Melrose\, Royal York and Hay & Royal York and Simpson from Noon till 2 pm.\nEvery weekend our musicians will be at a different corner.\nFollow us on Facebook for updates on weekend performers.
URL:https://oaklearners.ca/event/mimico-village-music-series-6/
LOCATION:Mimico Village\, Royal York / Hay Ave\, Etobicoke\, Canada
CATEGORIES:Community Event
ATTACH;FMTTYPE=image/jpeg:https://oaklearners.ca/wp-content/uploads/2024/08/SummerMusicSeries.jpg
END:VEVENT
BEGIN:VEVENT
DTSTART;VALUE=DATE:20240930
DTEND;VALUE=DATE:20241002
DTSTAMP:20260423T011437
CREATED:20240818T182514Z
LAST-MODIFIED:20240818T184151Z
UID:10000815-1727683200-1727769599@oaklearners.ca
SUMMARY:Truth and Reconciliation Day (Orange Shirt Day)
DESCRIPTION:
URL:https://oaklearners.ca/event/truth-and-reconciliation-day/
LOCATION:Oak Learners – Royal York Campus\, 394 Royal York Rd.\, Etobicoke\, Ontario\, M8Y 2R3\, Canada
CATEGORIES:Special Event
ORGANIZER;CN="Oak Learners":MAILTO:info@oaklearners.ca
END:VEVENT
END:VCALENDAR