BEGIN:VCALENDAR
VERSION:2.0
PRODID:-//Oak Learners - ECPv6.15.20//NONSGML v1.0//EN
CALSCALE:GREGORIAN
METHOD:PUBLISH
X-ORIGINAL-URL:https://oaklearners.ca
X-WR-CALDESC:Events for Oak Learners
REFRESH-INTERVAL;VALUE=DURATION:PT1H
X-Robots-Tag:noindex
X-PUBLISHED-TTL:PT1H
BEGIN:VTIMEZONE
TZID:America/Toronto
BEGIN:DAYLIGHT
TZOFFSETFROM:-0500
TZOFFSETTO:-0400
TZNAME:EDT
DTSTART:20240310T070000
END:DAYLIGHT
BEGIN:STANDARD
TZOFFSETFROM:-0400
TZOFFSETTO:-0500
TZNAME:EST
DTSTART:20241103T060000
END:STANDARD
BEGIN:DAYLIGHT
TZOFFSETFROM:-0500
TZOFFSETTO:-0400
TZNAME:EDT
DTSTART:20250309T070000
END:DAYLIGHT
BEGIN:STANDARD
TZOFFSETFROM:-0400
TZOFFSETTO:-0500
TZNAME:EST
DTSTART:20251102T060000
END:STANDARD
BEGIN:DAYLIGHT
TZOFFSETFROM:-0500
TZOFFSETTO:-0400
TZNAME:EDT
DTSTART:20260308T070000
END:DAYLIGHT
BEGIN:STANDARD
TZOFFSETFROM:-0400
TZOFFSETTO:-0500
TZNAME:EST
DTSTART:20261101T060000
END:STANDARD
END:VTIMEZONE
BEGIN:VEVENT
DTSTART;TZID=America/Toronto:20250721T090000
DTEND;TZID=America/Toronto:20250724T110000
DTSTAMP:20260425T084726
CREATED:20250511T135900Z
LAST-MODIFIED:20250516T234514Z
UID:10002497-1753088400-1753354800@oaklearners.ca
SUMMARY:Read and Write with Ease  Grades 6–8
DESCRIPTION:Read and Write with Ease Grades 6–8 July 21st through 25th\, 9:00pm-11:00am\nStudents entering Grades 6-8 in September 2025. Students will be encouraged to develop reading and writing skills and strategies to build comprehension and vocabulary knowledge and to strengthen writing conventions such as form and function while also improving penmanship and organization for writing.
URL:https://oaklearners.ca/event/read-and-write-with-ease-grades-6-8/
CATEGORIES:Class,Summer Learning Lab,Summer Skill Booster
ATTACH;FMTTYPE=image/png:https://oaklearners.ca/wp-content/uploads/2025/03/Thumbnails-2025-2-1.png
ORGANIZER;CN="Oak Learners":MAILTO:info@oaklearners.ca
END:VEVENT
BEGIN:VEVENT
DTSTART;TZID=America/Toronto:20250721T130000
DTEND;TZID=America/Toronto:20250724T150000
DTSTAMP:20260425T084726
CREATED:20250511T135904Z
LAST-MODIFIED:20250516T234738Z
UID:10002498-1753102800-1753369200@oaklearners.ca
SUMMARY:Math Made Easier Grades 6–8
DESCRIPTION:Math Made Easier Grades 6–8 July 21st through July 25th\, 1:00pm-3:00pm\nIdeal for students entering Grades 6-8 in September 2025 who are working towards solidifying important Intermediate Mathematical skill sets. Students will be inspired to expand their mental math skills through engaging\, hands-on activities that strengthen numeracy skills and build a solid foundation for mathematics in the Intermediate classroom.
URL:https://oaklearners.ca/event/math-made-easier-grades-6-8/
CATEGORIES:Class,Summer Learning Lab,Summer Skill Booster
ATTACH;FMTTYPE=image/png:https://oaklearners.ca/wp-content/uploads/2025/03/Thumbnails-2025-3.png
ORGANIZER;CN="Oak Learners":MAILTO:info@oaklearners.ca
END:VEVENT
END:VCALENDAR