BEGIN:VCALENDAR
VERSION:2.0
PRODID:-//Oak Learners - ECPv6.15.20//NONSGML v1.0//EN
CALSCALE:GREGORIAN
METHOD:PUBLISH
X-ORIGINAL-URL:https://oaklearners.ca
X-WR-CALDESC:Events for Oak Learners
REFRESH-INTERVAL;VALUE=DURATION:PT1H
X-Robots-Tag:noindex
X-PUBLISHED-TTL:PT1H
BEGIN:VTIMEZONE
TZID:America/Toronto
BEGIN:DAYLIGHT
TZOFFSETFROM:-0500
TZOFFSETTO:-0400
TZNAME:EDT
DTSTART:20240310T070000
END:DAYLIGHT
BEGIN:STANDARD
TZOFFSETFROM:-0400
TZOFFSETTO:-0500
TZNAME:EST
DTSTART:20241103T060000
END:STANDARD
BEGIN:DAYLIGHT
TZOFFSETFROM:-0500
TZOFFSETTO:-0400
TZNAME:EDT
DTSTART:20250309T070000
END:DAYLIGHT
BEGIN:STANDARD
TZOFFSETFROM:-0400
TZOFFSETTO:-0500
TZNAME:EST
DTSTART:20251102T060000
END:STANDARD
BEGIN:DAYLIGHT
TZOFFSETFROM:-0500
TZOFFSETTO:-0400
TZNAME:EDT
DTSTART:20260308T070000
END:DAYLIGHT
BEGIN:STANDARD
TZOFFSETFROM:-0400
TZOFFSETTO:-0500
TZNAME:EST
DTSTART:20261101T060000
END:STANDARD
END:VTIMEZONE
BEGIN:VEVENT
DTSTART;TZID=America/Toronto:20250707T090000
DTEND;TZID=America/Toronto:20250710T110000
DTSTAMP:20260425T223551
CREATED:20250511T135858Z
LAST-MODIFIED:20250516T233449Z
UID:10002493-1751878800-1752145200@oaklearners.ca
SUMMARY:Read and write with confidence Grades 1–3
DESCRIPTION:Read and Write with Confidence Grades 1–3July 7th through July 11th\, 9:00am – 11:00am\nIdeal for students in Grades 1-3 who are still developing their skills in reading and writing. Students will participate in targeted skill practice in early literacy\, including phonics and penmanship\, through engaging and fun activities.
URL:https://oaklearners.ca/event/read-and-write-with-confidence-grades-1-3/
CATEGORIES:Class,Summer Learning Lab,Summer Skill Booster
ATTACH;FMTTYPE=image/png:https://oaklearners.ca/wp-content/uploads/2025/03/2.png
ORGANIZER;CN="Oak Learners":MAILTO:info@oaklearners.ca
END:VEVENT
BEGIN:VEVENT
DTSTART;TZID=America/Toronto:20250707T130000
DTEND;TZID=America/Toronto:20250710T150000
DTSTAMP:20260425T223551
CREATED:20250511T135859Z
LAST-MODIFIED:20250516T233856Z
UID:10002494-1751893200-1752159600@oaklearners.ca
SUMMARY:Building Blocks of Math Grades 1–3
DESCRIPTION:Building Blocks of Math Grades 1–3July 7th through July 11th\, 1:00pm-3:00pm\nIdeal for students in Grades 1-3 who are still developing mathematical skill sets. Students will be inspired to develop mental math skills through engaging\, hands-on activities that strengthen numeracy skills and build a solid foundation for mathematics in the classroom.
URL:https://oaklearners.ca/event/building-blocks-of-math-grades-1-3/
CATEGORIES:Class,Summer Learning Lab,Summer Skill Booster
ATTACH;FMTTYPE=image/png:https://oaklearners.ca/wp-content/uploads/2025/03/3.png
ORGANIZER;CN="Oak Learners":MAILTO:info@oaklearners.ca
END:VEVENT
END:VCALENDAR