BEGIN:VCALENDAR
VERSION:2.0
PRODID:-//Oak Learners - ECPv6.15.20//NONSGML v1.0//EN
CALSCALE:GREGORIAN
METHOD:PUBLISH
X-WR-CALNAME:Oak Learners
X-ORIGINAL-URL:https://oaklearners.ca
X-WR-CALDESC:Events for Oak Learners
REFRESH-INTERVAL;VALUE=DURATION:PT1H
X-Robots-Tag:noindex
X-PUBLISHED-TTL:PT1H
BEGIN:VTIMEZONE
TZID:America/Toronto
BEGIN:DAYLIGHT
TZOFFSETFROM:-0500
TZOFFSETTO:-0400
TZNAME:EDT
DTSTART:20240310T070000
END:DAYLIGHT
BEGIN:STANDARD
TZOFFSETFROM:-0400
TZOFFSETTO:-0500
TZNAME:EST
DTSTART:20241103T060000
END:STANDARD
BEGIN:DAYLIGHT
TZOFFSETFROM:-0500
TZOFFSETTO:-0400
TZNAME:EDT
DTSTART:20250309T070000
END:DAYLIGHT
BEGIN:STANDARD
TZOFFSETFROM:-0400
TZOFFSETTO:-0500
TZNAME:EST
DTSTART:20251102T060000
END:STANDARD
BEGIN:DAYLIGHT
TZOFFSETFROM:-0500
TZOFFSETTO:-0400
TZNAME:EDT
DTSTART:20260308T070000
END:DAYLIGHT
BEGIN:STANDARD
TZOFFSETFROM:-0400
TZOFFSETTO:-0500
TZNAME:EST
DTSTART:20261101T060000
END:STANDARD
END:VTIMEZONE
BEGIN:VEVENT
DTSTART;TZID=America/Toronto:20250811T090000
DTEND;TZID=America/Toronto:20250814T110000
DTSTAMP:20260425T103710
CREATED:20250511T135906Z
LAST-MODIFIED:20250516T235449Z
UID:10002501-1754902800-1755169200@oaklearners.ca
SUMMARY:Essay Essentials: Structure\, Style & Support Grades 9–10
DESCRIPTION:Essay Essentials: Structure\, Style & Support Grades 9–10 August 11th through August 15th\, 9:00am-11:00am\nThis class is designed to help High School Students develop strong writing techniques for academic essays. Students will focus on structuring their essays\, crafting strong thesis statements\, and developing clear arguments. Through guided writing exercises and peer review\, students will enhance their writing style\, improve their use of evidence\, and strengthen their critical thinking skills.
URL:https://oaklearners.ca/event/essay-essentials-structure-style-support-grades-9-10/
LOCATION:Ontario
CATEGORIES:Class,Summer Learning Lab,Summer Skill Booster
ATTACH;FMTTYPE=image/png:https://oaklearners.ca/wp-content/uploads/2025/03/Thumbnails-2025-7.png
ORGANIZER;CN="Oak Learners":MAILTO:info@oaklearners.ca
END:VEVENT
BEGIN:VEVENT
DTSTART;TZID=America/Toronto:20250811T130000
DTEND;TZID=America/Toronto:20250814T150000
DTSTAMP:20260425T103710
CREATED:20250511T135906Z
LAST-MODIFIED:20250516T235940Z
UID:10002502-1754917200-1755183600@oaklearners.ca
SUMMARY:Science Foundations Grades 9–10
DESCRIPTION:Science Foundations Grades 9–10 August 11th through – August 15th\, 1:00pm-3:00pm\nThis hands-on summer lab is designed to help students build a strong foundation for success in Grade 9 and 10 Science courses. Students will review key concepts in biology\, chemistry\, and physics while learning effective study strategies for mastering scientific concepts. Hands-on experiments and demonstrations will reinforce understanding and prepare students for the practical application of science in the classroom.
URL:https://oaklearners.ca/event/science-foundations-grades-9-10/
LOCATION:Ontario
CATEGORIES:Class,Summer Learning Lab,Summer Skill Booster
ATTACH;FMTTYPE=image/png:https://oaklearners.ca/wp-content/uploads/2025/03/Thumbnails-2025-8.png
ORGANIZER;CN="Oak Learners":MAILTO:info@oaklearners.ca
END:VEVENT
BEGIN:VEVENT
DTSTART;TZID=America/Toronto:20250818T090000
DTEND;TZID=America/Toronto:20250821T110000
DTSTAMP:20260425T103710
CREATED:20250511T135920Z
LAST-MODIFIED:20250517T000056Z
UID:10002503-1755507600-1755774000@oaklearners.ca
SUMMARY:Academic Planning & Organization Grades 9–10
DESCRIPTION:Academic Planning & Organization Grades 9–10 August 18th through August 22nd\,  9:00am-11:00am\nThis class is designed to help High School students strengthen their executive functioning skills\, including organization\, time management\, and self-regulation. Through interactive exercises\, students will learn how to set goals\, prioritize tasks\, and maintain focus. The class will also explore strategies for managing stress and staying organized in the face of academic demands.
URL:https://oaklearners.ca/event/academic-planning-organization-grades-9-10/
LOCATION:Ontario
CATEGORIES:Class,Summer Learning Lab,Summer Skill Booster
ATTACH;FMTTYPE=image/png:https://oaklearners.ca/wp-content/uploads/2025/03/Thumbnails-2025-9.png
ORGANIZER;CN="Oak Learners":MAILTO:info@oaklearners.ca
END:VEVENT
BEGIN:VEVENT
DTSTART;TZID=America/Toronto:20250818T130000
DTEND;TZID=America/Toronto:20250821T150000
DTSTAMP:20260425T103710
CREATED:20250511T135921Z
LAST-MODIFIED:20250517T000317Z
UID:10002504-1755522000-1755788400@oaklearners.ca
SUMMARY:Study Smarter Program for Students Entering Grade 9
DESCRIPTION:Study Smarter Program for Students Entering Grade 9 August 18-22\, 1:00pm-3:00pm\nThis class will focus on developing efficient study habits to help Grade 9 students succeed entering High School. Students will explore strategies for taking notes\, reviewing material\, and managing time effectively. The class will also cover how to approach studying for tests\, creating study schedules\, and maintaining motivation throughout the school year.
URL:https://oaklearners.ca/event/study-smarter-program-for-students-entering-grade-9/
LOCATION:Ontario
CATEGORIES:Class,Summer Learning Lab,Summer Skill Booster
ATTACH;FMTTYPE=image/png:https://oaklearners.ca/wp-content/uploads/2025/03/Thumbnails-2025-10.png
ORGANIZER;CN="Oak Learners":MAILTO:info@oaklearners.ca
END:VEVENT
END:VCALENDAR