BEGIN:VCALENDAR
VERSION:2.0
PRODID:-//Oak Learners - ECPv6.15.20//NONSGML v1.0//EN
CALSCALE:GREGORIAN
METHOD:PUBLISH
X-ORIGINAL-URL:https://oaklearners.ca
X-WR-CALDESC:Events for Oak Learners
REFRESH-INTERVAL;VALUE=DURATION:PT1H
X-Robots-Tag:noindex
X-PUBLISHED-TTL:PT1H
BEGIN:VTIMEZONE
TZID:America/Toronto
BEGIN:DAYLIGHT
TZOFFSETFROM:-0500
TZOFFSETTO:-0400
TZNAME:EDT
DTSTART:20230312T070000
END:DAYLIGHT
BEGIN:STANDARD
TZOFFSETFROM:-0400
TZOFFSETTO:-0500
TZNAME:EST
DTSTART:20231105T060000
END:STANDARD
BEGIN:DAYLIGHT
TZOFFSETFROM:-0500
TZOFFSETTO:-0400
TZNAME:EDT
DTSTART:20240310T070000
END:DAYLIGHT
BEGIN:STANDARD
TZOFFSETFROM:-0400
TZOFFSETTO:-0500
TZNAME:EST
DTSTART:20241103T060000
END:STANDARD
BEGIN:DAYLIGHT
TZOFFSETFROM:-0500
TZOFFSETTO:-0400
TZNAME:EDT
DTSTART:20250309T070000
END:DAYLIGHT
BEGIN:STANDARD
TZOFFSETFROM:-0400
TZOFFSETTO:-0500
TZNAME:EST
DTSTART:20251102T060000
END:STANDARD
END:VTIMEZONE
BEGIN:VEVENT
DTSTART;TZID=America/Toronto:20240501T110000
DTEND;TZID=America/Toronto:20240501T130000
DTSTAMP:20260423T191441
CREATED:20240315T191741Z
LAST-MODIFIED:20240315T191741Z
UID:10000773-1714561200-1714568400@oaklearners.ca
SUMMARY:Little Rebels - Music Classes for Babies\, Toddlers and Kids!
DESCRIPTION:Little Rebels classes are carefully crafted and specifically designed development and music programs for kids from 2 months to 5 years that encourage cognitive learning\, muscle development\, and creative play. Each 45-minute class includes a series of fun developmental activities\, new-fangled BROADWAY\, ROCK & ROLL + MOTOWN songs\, and tactile object play. All aimed at helping these fantastic tiny humans to reach those milestone moments. \nRebel Toddlers + Kids (15 months +)\nSaturdays from 10:00 a.m. to 10:45 a.m.*\n*This class is great for all ages; younger kids are welcome to join us! \nRebel Babies (7-14 months)\nWednesdays from 11:15 a.m. to 12:00 p.m. \nRebel Infants (2-6 months)\nWednesdays from 12:15 p.m. to 1:00 p.m.
URL:https://oaklearners.ca/event/little-rebels-music-classes-for-babies-toddlers-and-kids/2024-05-01/
LOCATION:Oak Learners – Royal York Campus\, 394 Royal York Rd.\, Etobicoke\, Ontario\, M8Y 2R3\, Canada
CATEGORIES:Class,Kinder,Music Class
ATTACH;FMTTYPE=image/jpeg:https://oaklearners.ca/wp-content/uploads/2023/04/GABBYUPDATEDLR_PrimaryLogo_PMS_PNG.jpeg
END:VEVENT
BEGIN:VEVENT
DTSTART;TZID=America/Toronto:20240504T100000
DTEND;TZID=America/Toronto:20240504T110000
DTSTAMP:20260423T191441
CREATED:20240315T192021Z
LAST-MODIFIED:20240315T192021Z
UID:10000786-1714816800-1714820400@oaklearners.ca
SUMMARY:Little Rebels - Music Classes for Babies\, Toddlers and Kids!
DESCRIPTION:Little Rebels classes are carefully crafted and specifically designed development and music programs for kids from 2 months to 5 years that encourage cognitive learning\, muscle development\, and creative play. Each 45-minute class includes a series of fun developmental activities\, new-fangled BROADWAY\, ROCK & ROLL + MOTOWN songs\, and tactile object play. All aimed at helping these fantastic tiny humans to reach those milestone moments. \nRebel Toddlers + Kids (15 months +)\nSaturdays from 10:00 a.m. to 10:45 a.m.*\n*This class is great for all ages; younger kids are welcome to join us! \nRebel Babies (7-14 months)\nWednesdays from 11:15 a.m. to 12:00 p.m. \nRebel Infants (2-6 months)\nWednesdays from 12:15 p.m. to 1:00 p.m.
URL:https://oaklearners.ca/event/little-rebels-music-classes-for-babies-toddlers-and-kids-2/2024-05-04/
LOCATION:Oak Learners – Royal York Campus\, 394 Royal York Rd.\, Etobicoke\, Ontario\, M8Y 2R3\, Canada
CATEGORIES:Class,Kinder,Music Class
ATTACH;FMTTYPE=image/jpeg:https://oaklearners.ca/wp-content/uploads/2023/04/GABBYUPDATEDLR_PrimaryLogo_PMS_PNG.jpeg
END:VEVENT
BEGIN:VEVENT
DTSTART;TZID=America/Toronto:20240510T190000
DTEND;TZID=America/Toronto:20240510T210000
DTSTAMP:20260423T191441
CREATED:20240428T151404Z
LAST-MODIFIED:20240428T151624Z
UID:10000806-1715367600-1715374800@oaklearners.ca
SUMMARY:Inspired by Mothers Day Paint Night
DESCRIPTION:Inspired by Mother’s Day Paint Night\nFriday\, May 10th \, 7-9pm\n394 Royal York Road\n$50 per participant (materials incl.)\nCash or Etransfer accepted \nRSVP directly with Artist Tenille Rose Will – rosewillstudio@gmail.com\n  \n\n  \nCanadian born artist Tennille Rose Will has been a professional artist for nearly 20 years. Yearning to see the world from a young age she traversed the globe. Travelling from Europe to Australia\, she met new collectors and gained material for her persistently inspired works. After several years of successful exhibitions and private sales abroad\, Tennille returned to Canada. She currently resides in Toronto. \nHer work is an array of emotive figures expressed through vivid colour and fluid lines. Producing art that is based upon her own experiences\, Tennille Rose Will is intriguing\, creating both excitement and serenity. Her belief is that we are influenced by inanimate surroundings. She hopes her work will both contribute to\, and influence\, a more introspective society. \nTennille’s creations come to life in an amalgamation of styles. The bright fauvist palette of Matisse and Derain\, the patterning of Klimt and the elongated shapes that become reminiscent of Modigliani are evident. All these different influences come together in what the artist simply calls “Tennillism”.
URL:https://oaklearners.ca/event/inspired-by-mothers-day-paint-night/
LOCATION:Oak Learners – Royal York Campus\, 394 Royal York Rd.\, Etobicoke\, Ontario\, M8Y 2R3\, Canada
CATEGORIES:Art Class,Workshop
ATTACH;FMTTYPE=image/png:https://oaklearners.ca/wp-content/uploads/2024/04/OAKLEARNERS-PAINT-NITE.png
ORGANIZER;CN="Tenille Rose Will":MAILTO:rosewillstudio@gmail.com
END:VEVENT
END:VCALENDAR